BEGIN:VCALENDAR
VERSION:2.0
PRODID:-//Healing Flames Forge - ECPv6.15.13.1//NONSGML v1.0//EN
CALSCALE:GREGORIAN
METHOD:PUBLISH
X-ORIGINAL-URL:https://healingflamesforge.org
X-WR-CALDESC:Events for Healing Flames Forge
REFRESH-INTERVAL;VALUE=DURATION:PT1H
X-Robots-Tag:noindex
X-PUBLISHED-TTL:PT1H
BEGIN:VTIMEZONE
TZID:America/Halifax
BEGIN:DAYLIGHT
TZOFFSETFROM:-0400
TZOFFSETTO:-0300
TZNAME:ADT
DTSTART:20240310T060000
END:DAYLIGHT
BEGIN:STANDARD
TZOFFSETFROM:-0300
TZOFFSETTO:-0400
TZNAME:AST
DTSTART:20241103T050000
END:STANDARD
BEGIN:DAYLIGHT
TZOFFSETFROM:-0400
TZOFFSETTO:-0300
TZNAME:ADT
DTSTART:20250309T060000
END:DAYLIGHT
BEGIN:STANDARD
TZOFFSETFROM:-0300
TZOFFSETTO:-0400
TZNAME:AST
DTSTART:20251102T050000
END:STANDARD
BEGIN:DAYLIGHT
TZOFFSETFROM:-0400
TZOFFSETTO:-0300
TZNAME:ADT
DTSTART:20260308T060000
END:DAYLIGHT
BEGIN:STANDARD
TZOFFSETFROM:-0300
TZOFFSETTO:-0400
TZNAME:AST
DTSTART:20261101T050000
END:STANDARD
END:VTIMEZONE
BEGIN:VEVENT
DTSTART;TZID=America/Halifax:20250906T080000
DTEND;TZID=America/Halifax:20250906T170000
DTSTAMP:20260420T091816
CREATED:20231105T001857Z
LAST-MODIFIED:20231105T155347Z
UID:5133-1757145600-1757178000@healingflamesforge.org
SUMMARY:Forge Session for Up to 8 People
DESCRIPTION:
URL:https://healingflamesforge.org/event/forge-session-for-up-to-8-people-2025-09-06/
END:VEVENT
BEGIN:VEVENT
DTSTART;TZID=America/Halifax:20250907T080000
DTEND;TZID=America/Halifax:20250907T170000
DTSTAMP:20260420T091816
CREATED:20231105T001857Z
LAST-MODIFIED:20231105T155347Z
UID:5134-1757232000-1757264400@healingflamesforge.org
SUMMARY:Forge Session for Up to 8 People
DESCRIPTION:
URL:https://healingflamesforge.org/event/forge-session-for-up-to-8-people-2025-09-07/
END:VEVENT
BEGIN:VEVENT
DTSTART;TZID=America/Halifax:20250913T080000
DTEND;TZID=America/Halifax:20250913T170000
DTSTAMP:20260420T091816
CREATED:20231105T001857Z
LAST-MODIFIED:20231105T155348Z
UID:5135-1757750400-1757782800@healingflamesforge.org
SUMMARY:Forge Session for Up to 8 People
DESCRIPTION:
URL:https://healingflamesforge.org/event/forge-session-for-up-to-8-people-2025-09-13/
END:VEVENT
BEGIN:VEVENT
DTSTART;TZID=America/Halifax:20250914T080000
DTEND;TZID=America/Halifax:20250914T170000
DTSTAMP:20260420T091816
CREATED:20231105T001857Z
LAST-MODIFIED:20231105T155348Z
UID:5136-1757836800-1757869200@healingflamesforge.org
SUMMARY:Forge Session for Up to 8 People
DESCRIPTION:
URL:https://healingflamesforge.org/event/forge-session-for-up-to-8-people-2025-09-14/
END:VEVENT
BEGIN:VEVENT
DTSTART;TZID=America/Halifax:20250920T080000
DTEND;TZID=America/Halifax:20250920T170000
DTSTAMP:20260420T091816
CREATED:20231105T001857Z
LAST-MODIFIED:20231105T155348Z
UID:5137-1758355200-1758387600@healingflamesforge.org
SUMMARY:Forge Session for Up to 8 People
DESCRIPTION:
URL:https://healingflamesforge.org/event/forge-session-for-up-to-8-people-2025-09-20/
END:VEVENT
BEGIN:VEVENT
DTSTART;TZID=America/Halifax:20250921T080000
DTEND;TZID=America/Halifax:20250921T170000
DTSTAMP:20260420T091816
CREATED:20231105T001857Z
LAST-MODIFIED:20231105T155348Z
UID:5138-1758441600-1758474000@healingflamesforge.org
SUMMARY:Forge Session for Up to 8 People
DESCRIPTION:
URL:https://healingflamesforge.org/event/forge-session-for-up-to-8-people-2025-09-21/
END:VEVENT
BEGIN:VEVENT
DTSTART;TZID=America/Halifax:20250927T080000
DTEND;TZID=America/Halifax:20250927T170000
DTSTAMP:20260420T091816
CREATED:20231105T001857Z
LAST-MODIFIED:20231105T155349Z
UID:5139-1758960000-1758992400@healingflamesforge.org
SUMMARY:Forge Session for Up to 8 People
DESCRIPTION:
URL:https://healingflamesforge.org/event/forge-session-for-up-to-8-people-2025-09-27/
END:VEVENT
BEGIN:VEVENT
DTSTART;TZID=America/Halifax:20250928T080000
DTEND;TZID=America/Halifax:20250928T170000
DTSTAMP:20260420T091816
CREATED:20231105T001857Z
LAST-MODIFIED:20231105T155349Z
UID:5140-1759046400-1759078800@healingflamesforge.org
SUMMARY:Forge Session for Up to 8 People
DESCRIPTION:
URL:https://healingflamesforge.org/event/forge-session-for-up-to-8-people-2025-09-28/
END:VEVENT
END:VCALENDAR