BEGIN:VCALENDAR
VERSION:2.0
PRODID:-//Healing Flames Forge - ECPv6.15.13.1//NONSGML v1.0//EN
CALSCALE:GREGORIAN
METHOD:PUBLISH
X-WR-CALNAME:Healing Flames Forge
X-ORIGINAL-URL:https://healingflamesforge.org
X-WR-CALDESC:Events for Healing Flames Forge
REFRESH-INTERVAL;VALUE=DURATION:PT1H
X-Robots-Tag:noindex
X-PUBLISHED-TTL:PT1H
BEGIN:VTIMEZONE
TZID:America/Halifax
BEGIN:DAYLIGHT
TZOFFSETFROM:-0400
TZOFFSETTO:-0300
TZNAME:ADT
DTSTART:20210314T060000
END:DAYLIGHT
BEGIN:STANDARD
TZOFFSETFROM:-0300
TZOFFSETTO:-0400
TZNAME:AST
DTSTART:20211107T050000
END:STANDARD
BEGIN:DAYLIGHT
TZOFFSETFROM:-0400
TZOFFSETTO:-0300
TZNAME:ADT
DTSTART:20220313T060000
END:DAYLIGHT
BEGIN:STANDARD
TZOFFSETFROM:-0300
TZOFFSETTO:-0400
TZNAME:AST
DTSTART:20221106T050000
END:STANDARD
BEGIN:DAYLIGHT
TZOFFSETFROM:-0400
TZOFFSETTO:-0300
TZNAME:ADT
DTSTART:20230312T060000
END:DAYLIGHT
BEGIN:STANDARD
TZOFFSETFROM:-0300
TZOFFSETTO:-0400
TZNAME:AST
DTSTART:20231105T050000
END:STANDARD
END:VTIMEZONE
BEGIN:VEVENT
DTSTART;TZID=America/Halifax:20221002T080000
DTEND;TZID=America/Halifax:20221002T170000
DTSTAMP:20260425T195734
CREATED:20220817T135913Z
LAST-MODIFIED:20231105T001602Z
UID:3286-1664697600-1664730000@healingflamesforge.org
SUMMARY:Forge Session for up to 8 people
DESCRIPTION:
URL:https://healingflamesforge.org/event/forge-session-for-8-people/
LOCATION:Healing Flames Forge\, 3825 N Old Dover Rd North\, Woodlawn\, TN\, 37191\, United States
ORGANIZER;CN="Rob Duane":MAILTO:robin.l.duane@gmail.com
END:VEVENT
END:VCALENDAR